BEGIN:VCALENDAR
VERSION:2.0
PRODID:-//ChamberMaster//Event Calendar 2.0//EN
METHOD:PUBLISH
X-PUBLISHED-TTL:P1H
REFRESH-INTERVAL:P1H
CALSCALE:GREGORIAN
BEGIN:VTIMEZONE
TZID:America/Denver
BEGIN:DAYLIGHT
RRULE:FREQ=YEARLY;BYMONTH=3;BYDAY=2SU
DTSTART:20070101T000000
TZOFFSETFROM:-0700
TZOFFSETTO:-0600
TZNAME:Mountain Daylight Time
END:DAYLIGHT
BEGIN:STANDARD
RRULE:FREQ=YEARLY;BYMONTH=11;BYDAY=1SU
DTSTART:20070101T000000
TZOFFSETFROM:-0600
TZOFFSETTO:-0700
TZNAME:Mountain Standard Time
END:STANDARD
END:VTIMEZONE
BEGIN:VEVENT
DTSTART;TZID=America/Denver:20260502T150000
DTEND;TZID=America/Denver:20260502T170000
X-MICROSOFT-CDO-ALLDAYEVENT:FALSE
SUMMARY:Art Exhibit
DESCRIPTION:Opening Reception\, Light Refreshments May 2nd 3pm - 6pm\nArt Exhibit May 2nd - May 30
X-ALT-DESC;FMTTYPE=text/html:<!DOCTYPE html><html><head><title></title></head><body aria-disabled="false"><p><strong fr-original-style="" style="font-weight: 700\;"><strong fr-original-style="font-weight: 700\; color: rgb(0\, 0\, 0)\; font-family: Arial\; font-size: medium\; font-style: normal\; font-variant-ligatures: normal\; font-variant-caps: normal\; letter-spacing: normal\; orphans: 2\; text-align: start\; text-indent: 0px\; text-transform: none\; widows: 2\; word-spacing: 0px\; -webkit-text-stroke-width: 0px\; white-space: normal\; text-decoration-thickness: initial\; text-decoration-style: initial\; text-decoration-color: initial\;" style="font-weight: 700\; color: rgb(0\, 0\, 0)\; font-family: Arial\; font-size: medium\; font-style: normal\; font-variant-ligatures: normal\; font-variant-caps: normal\; letter-spacing: normal\; orphans: 2\; text-align: start\; text-indent: 0px\; text-transform: none\; widows: 2\; word-spacing: 0px\; -webkit-text-stroke-width: 0px\; white-space: normal\; text-decoration-thickness: initial\; text-decoration-style: initial\; text-decoration-color: initial\;">Opening Reception\,</strong><strong fr-original-style="font-weight: 700\; color: rgb(0\, 0\, 0)\; font-family: Arial\; font-size: medium\; font-style: normal\; font-variant-ligatures: normal\; font-variant-caps: normal\; letter-spacing: normal\; orphans: 2\; text-align: start\; text-indent: 0px\; text-transform: none\; widows: 2\; word-spacing: 0px\; -webkit-text-stroke-width: 0px\; white-space: normal\; text-decoration-thickness: initial\; text-decoration-style: initial\; text-decoration-color: initial\;" style="font-weight: 700\; color: rgb(0\, 0\, 0)\; font-family: Arial\; font-size: medium\; font-style: normal\; font-variant-ligatures: normal\; font-variant-caps: normal\; letter-spacing: normal\; orphans: 2\; text-align: start\; text-indent: 0px\; text-transform: none\; widows: 2\; word-spacing: 0px\; -webkit-text-stroke-width: 0px\; white-space: normal\; text-decoration-thickness: initial\; text-decoration-style: initial\; text-decoration-color: initial\;">&nbsp\;</strong><span style="color: rgb(0\, 0\, 0)\; font-family: Arial\; font-size: medium\; font-style: normal\; font-variant-ligatures: normal\; font-variant-caps: normal\; font-weight: 400\; letter-spacing: normal\; orphans: 2\; text-align: start\; text-indent: 0px\; text-transform: none\; widows: 2\; word-spacing: 0px\; -webkit-text-stroke-width: 0px\; white-space: normal\; text-decoration-thickness: initial\; text-decoration-style: initial\; text-decoration-color: initial\; float: none\; display: inline !important\;"><strong fr-original-style="font-weight: 700\;" style="font-weight: 700\;">Light Refreshments</strong></span><span style="color: rgb(0\, 0\, 0)\; font-family: Arial\; font-size: medium\; font-style: normal\; font-variant-ligatures: normal\; font-variant-caps: normal\; font-weight: 400\; letter-spacing: normal\; orphans: 2\; text-align: start\; text-indent: 0px\; text-transform: none\; widows: 2\; word-spacing: 0px\; -webkit-text-stroke-width: 0px\; white-space: normal\; text-decoration-thickness: initial\; text-decoration-style: initial\; text-decoration-color: initial\; float: none\; display: inline !important\;">&nbsp\;May 2nd 3pm - 6pm</span></strong><br><strong fr-original-style="" style="font-weight: 700\;">Art Exhibit</strong> May 2nd - May 30</p><p><br></p></body></html>
LOCATION:7230 W 38th Ave Wheat Ridge CO 80033
UID:e.4595.1449357
SEQUENCE:3
DTSTAMP:20260423T074317Z
URL:https://business.wheatridgechamber.org/eventcalendar/Details/art-exhibit-1716800?sourceTypeId=Hub
END:VEVENT
END:VCALENDAR
