BEGIN:VCALENDAR
VERSION:2.0
PRODID:-//ChamberMaster//Event Calendar 2.0//EN
METHOD:PUBLISH
X-PUBLISHED-TTL:P1H
REFRESH-INTERVAL:P1H
CALSCALE:GREGORIAN
BEGIN:VTIMEZONE
TZID:America/Denver
BEGIN:DAYLIGHT
RRULE:FREQ=YEARLY;BYMONTH=3;BYDAY=2SU
DTSTART:20070101T000000
TZOFFSETFROM:-0700
TZOFFSETTO:-0600
TZNAME:Mountain Daylight Time
END:DAYLIGHT
BEGIN:STANDARD
RRULE:FREQ=YEARLY;BYMONTH=11;BYDAY=1SU
DTSTART:20070101T000000
TZOFFSETFROM:-0600
TZOFFSETTO:-0700
TZNAME:Mountain Standard Time
END:STANDARD
END:VTIMEZONE
BEGIN:VEVENT
DTSTART;TZID=America/Denver:20270107T113000
DTEND;TZID=America/Denver:20270107T130000
X-MICROSOFT-CDO-ALLDAYEVENT:FALSE
SUMMARY:Prosperity Partners Leads Group Meeting
DESCRIPTION:
X-ALT-DESC;FMTTYPE=text/html:
LOCATION:7230 W 38th Ave Wheat Ridge CO 80033
UID:e.4595.1436475
SEQUENCE:3
DTSTAMP:20260425T213830Z
URL:https://business.wheatridgechamber.org/eventcalendar/Details/prosperity-partners-leads-group-meeting-1718747?sourceTypeId=Hub
END:VEVENT
END:VCALENDAR
